BEGIN:VCALENDAR
VERSION:2.0
PRODID:-//Dr. CHICHEN WU Pianist, Fortepianist - ECPv6.15.13//NONSGML v1.0//EN
CALSCALE:GREGORIAN
METHOD:PUBLISH
X-ORIGINAL-URL:https://ccwpiano.com/portal
X-WR-CALDESC:Events for Dr. CHICHEN WU Pianist, Fortepianist
REFRESH-INTERVAL;VALUE=DURATION:PT1H
X-Robots-Tag:noindex
X-PUBLISHED-TTL:PT1H
BEGIN:VTIMEZONE
TZID:America/Chicago
BEGIN:DAYLIGHT
TZOFFSETFROM:-0600
TZOFFSETTO:-0500
TZNAME:CDT
DTSTART:20240310T080000
END:DAYLIGHT
BEGIN:STANDARD
TZOFFSETFROM:-0500
TZOFFSETTO:-0600
TZNAME:CST
DTSTART:20241103T070000
END:STANDARD
BEGIN:DAYLIGHT
TZOFFSETFROM:-0600
TZOFFSETTO:-0500
TZNAME:CDT
DTSTART:20250309T080000
END:DAYLIGHT
BEGIN:STANDARD
TZOFFSETFROM:-0500
TZOFFSETTO:-0600
TZNAME:CST
DTSTART:20251102T070000
END:STANDARD
BEGIN:DAYLIGHT
TZOFFSETFROM:-0600
TZOFFSETTO:-0500
TZNAME:CDT
DTSTART:20260308T080000
END:DAYLIGHT
BEGIN:STANDARD
TZOFFSETFROM:-0500
TZOFFSETTO:-0600
TZNAME:CST
DTSTART:20261101T070000
END:STANDARD
END:VTIMEZONE
BEGIN:VEVENT
DTSTART;TZID=America/Chicago:20251101T193000
DTEND;TZID=America/Chicago:20251101T213000
DTSTAMP:20260424T231412
CREATED:20251006T215252Z
LAST-MODIFIED:20251006T215252Z
UID:1378-1762025400-1762032600@ccwpiano.com
SUMMARY:Champaign\, IL
DESCRIPTION:New Music Festival: Portrait Concert\nDonnacha Dennehy: Her Wits (About Him) for Solo Piano
URL:https://ccwpiano.com/portal/event/champaign-il-3/
LOCATION:Smith Memorial Hall\, Champaign\, IL
ATTACH;FMTTYPE=image/png:https://ccwpiano.com/portal/wp-content/uploads/2025/08/471495287_613974551093378_7642329377708178594_n_16x9.png
END:VEVENT
END:VCALENDAR